BEGIN:VCALENDAR
VERSION:2.0
PRODID:-//SoCal Congolese Community - ECPv6.15.20//NONSGML v1.0//EN
CALSCALE:GREGORIAN
METHOD:PUBLISH
X-WR-CALNAME:SoCal Congolese Community
X-ORIGINAL-URL:https://socalcongolese.org
X-WR-CALDESC:Events for SoCal Congolese Community
REFRESH-INTERVAL;VALUE=DURATION:PT1H
X-Robots-Tag:noindex
X-PUBLISHED-TTL:PT1H
BEGIN:VTIMEZONE
TZID:UTC
BEGIN:STANDARD
TZOFFSETFROM:+0000
TZOFFSETTO:+0000
TZNAME:UTC
DTSTART:20190101T000000
END:STANDARD
END:VTIMEZONE
BEGIN:VEVENT
DTSTART;TZID=UTC:20201205T150000
DTEND;TZID=UTC:20201205T170000
DTSTAMP:20260422T164823
CREATED:20200422T082641Z
LAST-MODIFIED:20200422T082641Z
UID:26711-1607180400-1607187600@socalcongolese.org
SUMMARY:MONTHLY MEETING (December )
DESCRIPTION:Our meetings are held on Saturdays at 3pm  –  Free Parking: 4843 Venice Blvd
URL:https://socalcongolese.org/event/monthly-meeting-december/
CATEGORIES:Meeting
END:VEVENT
BEGIN:VEVENT
DTSTART;TZID=UTC:20201114T150000
DTEND;TZID=UTC:20201114T170000
DTSTAMP:20260422T164823
CREATED:20200422T082544Z
LAST-MODIFIED:20200422T082544Z
UID:26709-1605366000-1605373200@socalcongolese.org
SUMMARY:MONTHLY MEETING (November)
DESCRIPTION:Our meetings are held on Saturdays at 3pm  –  Free Parking: 4843 Venice Blvd
URL:https://socalcongolese.org/event/monthly-meeting-november/
LOCATION:LAPD Community Room\, 4849 Venice Boulevard\, Los Angeles\, CA\, 90019\, United States
CATEGORIES:Meeting
ORGANIZER;CN="SoCal Congolese":MAILTO:contact@socalcongolese.org
END:VEVENT
BEGIN:VEVENT
DTSTART;TZID=UTC:20201003T150000
DTEND;TZID=UTC:20201003T170000
DTSTAMP:20260422T164823
CREATED:20200422T082252Z
LAST-MODIFIED:20200422T082252Z
UID:26692-1601737200-1601744400@socalcongolese.org
SUMMARY:MONTHLY MEETING (October)
DESCRIPTION:Our meetings are held on Saturdays at 3pm  –  Free Parking: 4843 Venice Blvd
URL:https://socalcongolese.org/event/monthly-meeting-october/
LOCATION:LAPD Community Room\, 4849 Venice Boulevard\, Los Angeles\, CA\, 90019\, United States
CATEGORIES:Meeting
ORGANIZER;CN="SoCal Congolese":MAILTO:contact@socalcongolese.org
END:VEVENT
BEGIN:VEVENT
DTSTART;TZID=UTC:20200912T150000
DTEND;TZID=UTC:20200912T170000
DTSTAMP:20260422T164823
CREATED:20200422T081541Z
LAST-MODIFIED:20200422T081541Z
UID:26689-1599922800-1599930000@socalcongolese.org
SUMMARY:MONTHLY MEETING (September)
DESCRIPTION:Our meetings are held on Saturdays at 3pm  –  Free Parking: 4843 Venice Blvd
URL:https://socalcongolese.org/event/monthly-meeting-september/
LOCATION:LAPD Community Room\, 4849 Venice Boulevard\, Los Angeles\, CA\, 90019\, United States
CATEGORIES:Meeting
ORGANIZER;CN="SoCal Congolese":MAILTO:contact@socalcongolese.org
END:VEVENT
BEGIN:VEVENT
DTSTART;TZID=UTC:20200801T150000
DTEND;TZID=UTC:20200801T170000
DTSTAMP:20260422T164823
CREATED:20200422T080823Z
LAST-MODIFIED:20200422T080823Z
UID:26687-1596294000-1596301200@socalcongolese.org
SUMMARY:Monthly Meeting (August)
DESCRIPTION:Our meetings are held on Saturdays at 3pm  –  Free Parking: 4843 Venice Blvd
URL:https://socalcongolese.org/event/monthly-meeting-august/
LOCATION:LAPD Community Room\, 4849 Venice Boulevard\, Los Angeles\, CA\, 90019\, United States
CATEGORIES:Meeting
ORGANIZER;CN="SoCal Congolese":MAILTO:contact@socalcongolese.org
END:VEVENT
BEGIN:VEVENT
DTSTART;TZID=UTC:20200711T150000
DTEND;TZID=UTC:20200711T170000
DTSTAMP:20260422T164823
CREATED:20200422T080652Z
LAST-MODIFIED:20200422T081637Z
UID:26685-1594479600-1594486800@socalcongolese.org
SUMMARY:Monthly Meeting (July)
DESCRIPTION:Our meetings are held on Saturdays at 3pm  –  Free Parking: 4843 Venice Blvd
URL:https://socalcongolese.org/event/monthly-meeting-july/
LOCATION:LAPD Community Room\, 4849 Venice Boulevard\, Los Angeles\, CA\, 90019\, United States
CATEGORIES:Meeting
ORGANIZER;CN="SoCal Congolese":MAILTO:contact@socalcongolese.org
END:VEVENT
BEGIN:VEVENT
DTSTART;TZID=UTC:20200613T150000
DTEND;TZID=UTC:20200613T170000
DTSTAMP:20260422T164823
CREATED:20200422T080212Z
LAST-MODIFIED:20200422T080212Z
UID:26682-1592060400-1592067600@socalcongolese.org
SUMMARY:MONTHLY MEETING (June)
DESCRIPTION:Our meetings are held on Saturdays at 3pm  –  Free Parking: 4843 Venice Blvd
URL:https://socalcongolese.org/event/monthly-meeting-june/
LOCATION:LAPD Community Room\, 4849 Venice Boulevard\, Los Angeles\, CA\, 90019\, United States
CATEGORIES:Meeting
ORGANIZER;CN="SoCal Congolese":MAILTO:contact@socalcongolese.org
END:VEVENT
BEGIN:VEVENT
DTSTART;TZID=UTC:20200502T150000
DTEND;TZID=UTC:20200502T170000
DTSTAMP:20260422T164823
CREATED:20200422T075756Z
LAST-MODIFIED:20200422T080458Z
UID:26678-1588431600-1588438800@socalcongolese.org
SUMMARY:Monthly Meeting (May)
DESCRIPTION:Our meetings are held on Saturdays at 3pm  –  Free Parking: 4843 Venice Blvd
URL:https://socalcongolese.org/event/monthly-meeting-may/
LOCATION:LAPD Community Room\, 4849 Venice Boulevard\, Los Angeles\, CA\, 90019\, United States
CATEGORIES:Meeting
ORGANIZER;CN="SoCal Congolese":MAILTO:contact@socalcongolese.org
END:VEVENT
END:VCALENDAR